BEGIN:VCALENDAR
PRODID:-//hacksw/handcal//NONSGML v1.0//EN
VERSION:2.0
METHOD:PUBLISH
BEGIN:VEVENT
DTSTART:20231205T223000Z
DTEND:20231206T003000Z
LOCATION:Crave & Copper 
UID:2532720231205T223000ZEstate Planning Council Holiday Social 
DTSTAMP:20260421T212508Z
DESCRIPTION:\nCome celebrate the Holidays with your estate planning partners!\n
SUMMARY:Estate Planning Council Holiday Social  - Estate Planning Council of Polk County 
PRIORITY:3
BEGIN:VALARM
TRIGGER:PT18H
ACTION:DISPLAY
DESCRIPTION:Reminder
END:VALARM
END:VEVENT
END:VCALENDAR