BEGIN:VCALENDAR
PRODID:-//hacksw/handcal//NONSGML v1.0//EN
VERSION:2.0
METHOD:PUBLISH
BEGIN:VEVENT
DTSTART:20240123T223000Z
DTEND:20240124T003000Z
LOCATION:Cleveland Heights
UID:2448020240123T223000ZEstate Planning Council of Polk County January Dinner Meeting
DTSTAMP:20260420T052641Z
DESCRIPTION:
SUMMARY:Estate Planning Council of Polk County January Dinner Meeting - Estate Planning Council of Polk County 
PRIORITY:3
BEGIN:VALARM
TRIGGER:PT18H
ACTION:DISPLAY
DESCRIPTION:Reminder
END:VALARM
END:VEVENT
END:VCALENDAR